BEGIN:VCALENDAR
VERSION:2.0
PRODID:-//Independent Baptist Church - ECPv6.15.20//NONSGML v1.0//EN
CALSCALE:GREGORIAN
METHOD:PUBLISH
X-WR-CALNAME:Independent Baptist Church
X-ORIGINAL-URL:https://ibcbolingbrook.org
X-WR-CALDESC:Events for Independent Baptist Church
REFRESH-INTERVAL;VALUE=DURATION:PT1H
X-Robots-Tag:noindex
X-PUBLISHED-TTL:PT1H
BEGIN:VTIMEZONE
TZID:America/Chicago
BEGIN:DAYLIGHT
TZOFFSETFROM:-0600
TZOFFSETTO:-0500
TZNAME:CDT
DTSTART:20240310T080000
END:DAYLIGHT
BEGIN:STANDARD
TZOFFSETFROM:-0500
TZOFFSETTO:-0600
TZNAME:CST
DTSTART:20241103T070000
END:STANDARD
BEGIN:DAYLIGHT
TZOFFSETFROM:-0600
TZOFFSETTO:-0500
TZNAME:CDT
DTSTART:20250309T080000
END:DAYLIGHT
BEGIN:STANDARD
TZOFFSETFROM:-0500
TZOFFSETTO:-0600
TZNAME:CST
DTSTART:20251102T070000
END:STANDARD
BEGIN:DAYLIGHT
TZOFFSETFROM:-0600
TZOFFSETTO:-0500
TZNAME:CDT
DTSTART:20260308T080000
END:DAYLIGHT
BEGIN:STANDARD
TZOFFSETFROM:-0500
TZOFFSETTO:-0600
TZNAME:CST
DTSTART:20261101T070000
END:STANDARD
END:VTIMEZONE
BEGIN:VEVENT
DTSTART;TZID=America/Chicago:20251012T100000
DTEND;TZID=America/Chicago:20251012T110000
DTSTAMP:20260424T085511
CREATED:20250925T184236Z
LAST-MODIFIED:20250925T184236Z
UID:9852-1760263200-1760266800@ibcbolingbrook.org
SUMMARY:Guest Speaker: Jim Spears
DESCRIPTION:
URL:https://ibcbolingbrook.org/event/guest-speaker-jim-spears/
END:VEVENT
BEGIN:VEVENT
DTSTART;TZID=America/Chicago:20251011T150000
DTEND;TZID=America/Chicago:20251011T203000
DTSTAMP:20260424T085511
CREATED:20250709T174018Z
LAST-MODIFIED:20250709T174115Z
UID:9629-1760194800-1760214600@ibcbolingbrook.org
SUMMARY:Teen Fall Fest
DESCRIPTION:
URL:https://ibcbolingbrook.org/event/teen-fall-fest/
END:VEVENT
BEGIN:VEVENT
DTSTART;TZID=America/Chicago:20251005T180000
DTEND;TZID=America/Chicago:20251005T190000
DTSTAMP:20260424T085511
CREATED:20250925T191029Z
LAST-MODIFIED:20250925T191029Z
UID:9865-1759687200-1759690800@ibcbolingbrook.org
SUMMARY:Ladies Sunday School Class
DESCRIPTION:
URL:https://ibcbolingbrook.org/event/ladies-sunday-school-class/
END:VEVENT
BEGIN:VEVENT
DTSTART;VALUE=DATE:20251002
DTEND;VALUE=DATE:20251006
DTSTAMP:20260424T085511
CREATED:20250129T165935Z
LAST-MODIFIED:20250129T165935Z
UID:9098-1759363200-1759708799@ibcbolingbrook.org
SUMMARY:Men's Retreat
DESCRIPTION:
URL:https://ibcbolingbrook.org/event/mens-retreat-3/
END:VEVENT
BEGIN:VEVENT
DTSTART;TZID=America/Chicago:20250928T180000
DTEND;TZID=America/Chicago:20250928T190000
DTSTAMP:20260424T085511
CREATED:20250129T164913Z
LAST-MODIFIED:20250129T164913Z
UID:9058-1759082400-1759086000@ibcbolingbrook.org
SUMMARY:No Evening Service
DESCRIPTION:
URL:https://ibcbolingbrook.org/event/no-evening-service-7/
END:VEVENT
BEGIN:VEVENT
DTSTART;TZID=America/Chicago:20250928T133000
DTEND;TZID=America/Chicago:20250928T143000
DTSTAMP:20260424T085511
CREATED:20250129T164849Z
LAST-MODIFIED:20250813T171826Z
UID:9055-1759066200-1759069800@ibcbolingbrook.org
SUMMARY:Guest Speaker: Mike Shrock
DESCRIPTION:
URL:https://ibcbolingbrook.org/event/afternoon-service-9/
END:VEVENT
BEGIN:VEVENT
DTSTART;TZID=America/Chicago:20250928T100000
DTEND;TZID=America/Chicago:20250928T110000
DTSTAMP:20260424T085511
CREATED:20250129T164824Z
LAST-MODIFIED:20250813T171749Z
UID:9052-1759053600-1759057200@ibcbolingbrook.org
SUMMARY:Guest Speaker: Mike Shrock
DESCRIPTION:
URL:https://ibcbolingbrook.org/event/morning-service-5/
END:VEVENT
BEGIN:VEVENT
DTSTART;TZID=America/Chicago:20250920T080000
DTEND;TZID=America/Chicago:20250920T210000
DTSTAMP:20260424T085511
CREATED:20250813T171928Z
LAST-MODIFIED:20250813T171928Z
UID:9724-1758355200-1758402000@ibcbolingbrook.org
SUMMARY:Teens to Farmtastic
DESCRIPTION:
URL:https://ibcbolingbrook.org/event/teens-to-farmtastic/
END:VEVENT
BEGIN:VEVENT
DTSTART;VALUE=DATE:20250914
DTEND;VALUE=DATE:20250918
DTSTAMP:20260424T085511
CREATED:20250129T165854Z
LAST-MODIFIED:20250129T165854Z
UID:9095-1757808000-1758153599@ibcbolingbrook.org
SUMMARY:Missions Conference
DESCRIPTION:
URL:https://ibcbolingbrook.org/event/missions-conference/
END:VEVENT
BEGIN:VEVENT
DTSTART;VALUE=DATE:20250905
DTEND;VALUE=DATE:20250907
DTSTAMP:20260424T085511
CREATED:20250129T165811Z
LAST-MODIFIED:20250129T165811Z
UID:9092-1757030400-1757203199@ibcbolingbrook.org
SUMMARY:Marriage Retreat
DESCRIPTION:
URL:https://ibcbolingbrook.org/event/marriage-retreat/
END:VEVENT
BEGIN:VEVENT
DTSTART;VALUE=DATE:20250901
DTEND;VALUE=DATE:20250902
DTSTAMP:20260424T085511
CREATED:20250129T170523Z
LAST-MODIFIED:20250129T170523Z
UID:9116-1756684800-1756771199@ibcbolingbrook.org
SUMMARY:Church Office Closed
DESCRIPTION:
URL:https://ibcbolingbrook.org/event/church-office-closed-15/
END:VEVENT
BEGIN:VEVENT
DTSTART;TZID=America/Chicago:20250831T180000
DTEND;TZID=America/Chicago:20250831T190000
DTSTAMP:20260424T085511
CREATED:20250129T164746Z
LAST-MODIFIED:20250129T164746Z
UID:9049-1756663200-1756666800@ibcbolingbrook.org
SUMMARY:No Evening Service
DESCRIPTION:
URL:https://ibcbolingbrook.org/event/no-evening-service-6/
END:VEVENT
BEGIN:VEVENT
DTSTART;TZID=America/Chicago:20250831T133000
DTEND;TZID=America/Chicago:20250831T143000
DTSTAMP:20260424T085511
CREATED:20250129T164703Z
LAST-MODIFIED:20250129T164703Z
UID:9046-1756647000-1756650600@ibcbolingbrook.org
SUMMARY:Afternoon Service
DESCRIPTION:
URL:https://ibcbolingbrook.org/event/afternoon-service-8/
END:VEVENT
BEGIN:VEVENT
DTSTART;TZID=America/Chicago:20250831T100000
DTEND;TZID=America/Chicago:20250831T110000
DTSTAMP:20260424T085511
CREATED:20250129T164636Z
LAST-MODIFIED:20250129T164636Z
UID:9043-1756634400-1756638000@ibcbolingbrook.org
SUMMARY:Morning Service
DESCRIPTION:
URL:https://ibcbolingbrook.org/event/morning-service-4/
END:VEVENT
BEGIN:VEVENT
DTSTART;TZID=America/Chicago:20250827T190000
DTEND;TZID=America/Chicago:20250827T200000
DTSTAMP:20260424T085511
CREATED:20250604T162832Z
LAST-MODIFIED:20250604T162832Z
UID:9508-1756321200-1756324800@ibcbolingbrook.org
SUMMARY:Kids4Truth Begins
DESCRIPTION:
URL:https://ibcbolingbrook.org/event/kids4truth-begins-2/
END:VEVENT
BEGIN:VEVENT
DTSTART;TZID=America/Chicago:20250810T180000
DTEND;TZID=America/Chicago:20250810T200000
DTSTAMP:20260424T085511
CREATED:20250709T173800Z
LAST-MODIFIED:20250709T173800Z
UID:9623-1754848800-1754856000@ibcbolingbrook.org
SUMMARY:Faith Bible Institute Begins
DESCRIPTION:
URL:https://ibcbolingbrook.org/event/faith-bible-institute-begins-2/
END:VEVENT
BEGIN:VEVENT
DTSTART;TZID=America/Chicago:20250727T133000
DTEND;TZID=America/Chicago:20250727T143000
DTSTAMP:20260424T085511
CREATED:20250709T173506Z
LAST-MODIFIED:20250709T173506Z
UID:9620-1753623000-1753626600@ibcbolingbrook.org
SUMMARY:Singspiration
DESCRIPTION:
URL:https://ibcbolingbrook.org/event/singspiration/
END:VEVENT
BEGIN:VEVENT
DTSTART;TZID=America/Chicago:20250727T113000
DTEND;TZID=America/Chicago:20250727T133000
DTSTAMP:20260424T085511
CREATED:20250709T173420Z
LAST-MODIFIED:20250709T173443Z
UID:9616-1753615800-1753623000@ibcbolingbrook.org
SUMMARY:Food Trucks
DESCRIPTION:
URL:https://ibcbolingbrook.org/event/lunch-on-the-grounds/
END:VEVENT
BEGIN:VEVENT
DTSTART;TZID=America/Chicago:20250727T100000
DTEND;TZID=America/Chicago:20250727T110000
DTSTAMP:20260424T085511
CREATED:20250709T173342Z
LAST-MODIFIED:20250709T173342Z
UID:9613-1753610400-1753614000@ibcbolingbrook.org
SUMMARY:Morning Service
DESCRIPTION:
URL:https://ibcbolingbrook.org/event/morning-service-3/
END:VEVENT
BEGIN:VEVENT
DTSTART;VALUE=DATE:20250727
DTEND;VALUE=DATE:20250728
DTSTAMP:20260424T085511
CREATED:20250709T172745Z
LAST-MODIFIED:20250709T173247Z
UID:9604-1753574400-1753660799@ibcbolingbrook.org
SUMMARY:Friend Sunday
DESCRIPTION:10 am Worship Service \n11:30 am Lunch on the Grounds \n1:30 pm Singspiration
URL:https://ibcbolingbrook.org/event/friend-sunday/
END:VEVENT
BEGIN:VEVENT
DTSTART;TZID=America/Chicago:20250720T100000
DTEND;TZID=America/Chicago:20250720T110000
DTSTAMP:20260424T085511
CREATED:20250709T172635Z
LAST-MODIFIED:20250709T172635Z
UID:9601-1753005600-1753009200@ibcbolingbrook.org
SUMMARY:Baptism Service
DESCRIPTION:
URL:https://ibcbolingbrook.org/event/baptism-service-2/
END:VEVENT
BEGIN:VEVENT
DTSTART;TZID=America/Chicago:20250716T090000
DTEND;TZID=America/Chicago:20250718T000000
DTSTAMP:20260424T085511
CREATED:20250227T175548Z
LAST-MODIFIED:20250227T175548Z
UID:9236-1752656400-1752796800@ibcbolingbrook.org
SUMMARY:IBC Youth Soccer Camp
DESCRIPTION:
URL:https://ibcbolingbrook.org/event/ibc-youth-soccer-camp-3/
END:VEVENT
BEGIN:VEVENT
DTSTART;VALUE=DATE:20250704
DTEND;VALUE=DATE:20250705
DTSTAMP:20260424T085511
CREATED:20250129T170445Z
LAST-MODIFIED:20250129T170445Z
UID:9113-1751587200-1751673599@ibcbolingbrook.org
SUMMARY:Church Office Closed
DESCRIPTION:
URL:https://ibcbolingbrook.org/event/church-office-closed-14/
END:VEVENT
BEGIN:VEVENT
DTSTART;TZID=America/Chicago:20250629T180000
DTEND;TZID=America/Chicago:20250629T190000
DTSTAMP:20260424T085511
CREATED:20250129T164340Z
LAST-MODIFIED:20250129T164340Z
UID:9030-1751220000-1751223600@ibcbolingbrook.org
SUMMARY:No Evening Service
DESCRIPTION:
URL:https://ibcbolingbrook.org/event/no-evening-service-5/
END:VEVENT
BEGIN:VEVENT
DTSTART;TZID=America/Chicago:20250629T133000
DTEND;TZID=America/Chicago:20250629T143000
DTSTAMP:20260424T085511
CREATED:20250129T164315Z
LAST-MODIFIED:20250129T164315Z
UID:9027-1751203800-1751207400@ibcbolingbrook.org
SUMMARY:Afternoon Service
DESCRIPTION:
URL:https://ibcbolingbrook.org/event/afternoon-service-6/
END:VEVENT
BEGIN:VEVENT
DTSTART;TZID=America/Chicago:20250629T100000
DTEND;TZID=America/Chicago:20250629T110000
DTSTAMP:20260424T085511
CREATED:20250129T164251Z
LAST-MODIFIED:20250129T164251Z
UID:9024-1751191200-1751194800@ibcbolingbrook.org
SUMMARY:Morning Service
DESCRIPTION:
URL:https://ibcbolingbrook.org/event/morning-service-2/
END:VEVENT
BEGIN:VEVENT
DTSTART;TZID=America/Chicago:20250608T100000
DTEND;TZID=America/Chicago:20250608T230000
DTSTAMP:20260424T085511
CREATED:20250423T175224Z
LAST-MODIFIED:20250423T175224Z
UID:9386-1749376800-1749423600@ibcbolingbrook.org
SUMMARY:Pensacola Christian College Proclaim Ministry Team
DESCRIPTION:
URL:https://ibcbolingbrook.org/event/pensacola-christian-college-proclaim-ministry-team/
END:VEVENT
BEGIN:VEVENT
DTSTART;VALUE=DATE:20250606
DTEND;VALUE=DATE:20250614
DTSTAMP:20260424T085511
CREATED:20250218T201951Z
LAST-MODIFIED:20250218T201951Z
UID:9180-1749168000-1749859199@ibcbolingbrook.org
SUMMARY:Mexico Missions Trip
DESCRIPTION:
URL:https://ibcbolingbrook.org/event/mexico-missions-trip/
END:VEVENT
BEGIN:VEVENT
DTSTART;VALUE=DATE:20250601
DTEND;VALUE=DATE:20250602
DTSTAMP:20260424T085511
CREATED:20241230T185647Z
LAST-MODIFIED:20241230T185647Z
UID:8886-1748736000-1748822399@ibcbolingbrook.org
SUMMARY:Promotion Sunday
DESCRIPTION:
URL:https://ibcbolingbrook.org/event/promotion-sunday-3/
END:VEVENT
BEGIN:VEVENT
DTSTART;TZID=America/Chicago:20250528T183000
DTEND;TZID=America/Chicago:20250528T200000
DTSTAMP:20260424T085511
CREATED:20250327T163100Z
LAST-MODIFIED:20250327T163100Z
UID:9307-1748457000-1748462400@ibcbolingbrook.org
SUMMARY:Kids4Truth End of Year Party
DESCRIPTION:
URL:https://ibcbolingbrook.org/event/kids4truth-end-of-year-party-2/
END:VEVENT
END:VCALENDAR