BEGIN:VCALENDAR
VERSION:2.0
PRODID:-//Independent Baptist Church - ECPv6.15.20//NONSGML v1.0//EN
CALSCALE:GREGORIAN
METHOD:PUBLISH
X-WR-CALNAME:Independent Baptist Church
X-ORIGINAL-URL:https://ibcbolingbrook.org
X-WR-CALDESC:Events for Independent Baptist Church
REFRESH-INTERVAL;VALUE=DURATION:PT1H
X-Robots-Tag:noindex
X-PUBLISHED-TTL:PT1H
BEGIN:VTIMEZONE
TZID:America/Chicago
BEGIN:DAYLIGHT
TZOFFSETFROM:-0600
TZOFFSETTO:-0500
TZNAME:CDT
DTSTART:20240310T080000
END:DAYLIGHT
BEGIN:STANDARD
TZOFFSETFROM:-0500
TZOFFSETTO:-0600
TZNAME:CST
DTSTART:20241103T070000
END:STANDARD
BEGIN:DAYLIGHT
TZOFFSETFROM:-0600
TZOFFSETTO:-0500
TZNAME:CDT
DTSTART:20250309T080000
END:DAYLIGHT
BEGIN:STANDARD
TZOFFSETFROM:-0500
TZOFFSETTO:-0600
TZNAME:CST
DTSTART:20251102T070000
END:STANDARD
BEGIN:DAYLIGHT
TZOFFSETFROM:-0600
TZOFFSETTO:-0500
TZNAME:CDT
DTSTART:20260308T080000
END:DAYLIGHT
BEGIN:STANDARD
TZOFFSETFROM:-0500
TZOFFSETTO:-0600
TZNAME:CST
DTSTART:20261101T070000
END:STANDARD
END:VTIMEZONE
BEGIN:VEVENT
DTSTART;TZID=America/Chicago:20251210T180000
DTEND;TZID=America/Chicago:20251210T200000
DTSTAMP:20260424T103744
CREATED:20251027T151956Z
LAST-MODIFIED:20251027T151956Z
UID:9978-1765389600-1765396800@ibcbolingbrook.org
SUMMARY:Teen Christmas Party
DESCRIPTION:
URL:https://ibcbolingbrook.org/event/teen-christmas-party-3/
END:VEVENT
BEGIN:VEVENT
DTSTART;TZID=America/Chicago:20251130T180000
DTEND;TZID=America/Chicago:20251130T190000
DTSTAMP:20260424T103744
CREATED:20250129T165407Z
LAST-MODIFIED:20250129T165407Z
UID:9080-1764525600-1764529200@ibcbolingbrook.org
SUMMARY:No Evening Service
DESCRIPTION:
URL:https://ibcbolingbrook.org/event/no-evening-service-9/
END:VEVENT
BEGIN:VEVENT
DTSTART;TZID=America/Chicago:20251130T133000
DTEND;TZID=America/Chicago:20251130T143000
DTSTAMP:20260424T103744
CREATED:20250129T165340Z
LAST-MODIFIED:20250129T165340Z
UID:9077-1764509400-1764513000@ibcbolingbrook.org
SUMMARY:Afternoon Service
DESCRIPTION:
URL:https://ibcbolingbrook.org/event/afternoon-service-11/
END:VEVENT
BEGIN:VEVENT
DTSTART;TZID=America/Chicago:20251130T100000
DTEND;TZID=America/Chicago:20251130T110000
DTSTAMP:20260424T103744
CREATED:20250129T165315Z
LAST-MODIFIED:20250129T165315Z
UID:9074-1764496800-1764500400@ibcbolingbrook.org
SUMMARY:Morning Service
DESCRIPTION:
URL:https://ibcbolingbrook.org/event/morning-service-7/
END:VEVENT
BEGIN:VEVENT
DTSTART;VALUE=DATE:20251127
DTEND;VALUE=DATE:20251129
DTSTAMP:20260424T103744
CREATED:20250129T170610Z
LAST-MODIFIED:20250129T170610Z
UID:9119-1764201600-1764374399@ibcbolingbrook.org
SUMMARY:Church Office Closed
DESCRIPTION:
URL:https://ibcbolingbrook.org/event/church-office-closed-16/
END:VEVENT
BEGIN:VEVENT
DTSTART;TZID=America/Chicago:20251126T190000
DTEND;TZID=America/Chicago:20251126T200000
DTSTAMP:20260424T103744
CREATED:20250129T170108Z
LAST-MODIFIED:20250129T170108Z
UID:9104-1764183600-1764187200@ibcbolingbrook.org
SUMMARY:No Wednesday Service
DESCRIPTION:
URL:https://ibcbolingbrook.org/event/no-wednesday-service-2/
END:VEVENT
BEGIN:VEVENT
DTSTART;TZID=America/Chicago:20251125T190000
DTEND;TZID=America/Chicago:20251125T200000
DTSTAMP:20260424T103744
CREATED:20250129T170030Z
LAST-MODIFIED:20250129T170030Z
UID:9101-1764097200-1764100800@ibcbolingbrook.org
SUMMARY:Praise & Pie Service
DESCRIPTION:
URL:https://ibcbolingbrook.org/event/praise-pie-service-3/
END:VEVENT
BEGIN:VEVENT
DTSTART;TZID=America/Chicago:20251123T180000
DTEND;TZID=America/Chicago:20251123T190000
DTSTAMP:20260424T103744
CREATED:20250925T191244Z
LAST-MODIFIED:20250925T191244Z
UID:9880-1763920800-1763924400@ibcbolingbrook.org
SUMMARY:Ladies Sunday School Class
DESCRIPTION:
URL:https://ibcbolingbrook.org/event/ladies-sunday-school-class-6/
END:VEVENT
BEGIN:VEVENT
DTSTART;TZID=America/Chicago:20251109T180000
DTEND;TZID=America/Chicago:20251109T190000
DTSTAMP:20260424T103744
CREATED:20250925T191211Z
LAST-MODIFIED:20250925T191211Z
UID:9877-1762711200-1762714800@ibcbolingbrook.org
SUMMARY:Ladies Sunday School Class
DESCRIPTION:
URL:https://ibcbolingbrook.org/event/ladies-sunday-school-class-5/
END:VEVENT
BEGIN:VEVENT
DTSTART;TZID=America/Chicago:20251107T180000
DTEND;TZID=America/Chicago:20251107T200000
DTSTAMP:20260424T103744
CREATED:20251027T151313Z
LAST-MODIFIED:20251027T151313Z
UID:9974-1762538400-1762545600@ibcbolingbrook.org
SUMMARY:Men's Budget Meeting
DESCRIPTION:
URL:https://ibcbolingbrook.org/event/mens-budget-meeting-4/
END:VEVENT
BEGIN:VEVENT
DTSTART;TZID=America/Chicago:20251105T190000
DTEND;TZID=America/Chicago:20251105T200000
DTSTAMP:20260424T103744
CREATED:20251027T151223Z
LAST-MODIFIED:20251027T151223Z
UID:9971-1762369200-1762372800@ibcbolingbrook.org
SUMMARY:Annual Nursery Workers Meeting
DESCRIPTION:
URL:https://ibcbolingbrook.org/event/annual-nursery-workers-meeting/
END:VEVENT
BEGIN:VEVENT
DTSTART;TZID=America/Chicago:20251102T180000
DTEND;TZID=America/Chicago:20251102T190000
DTSTAMP:20260424T103744
CREATED:20250925T191150Z
LAST-MODIFIED:20250925T191150Z
UID:9874-1762106400-1762110000@ibcbolingbrook.org
SUMMARY:Ladies Sunday School Class
DESCRIPTION:
URL:https://ibcbolingbrook.org/event/ladies-sunday-school-class-4/
END:VEVENT
BEGIN:VEVENT
DTSTART;TZID=America/Chicago:20251026T180000
DTEND;TZID=America/Chicago:20251026T190000
DTSTAMP:20260424T103744
CREATED:20250129T165158Z
LAST-MODIFIED:20250129T165158Z
UID:9070-1761501600-1761505200@ibcbolingbrook.org
SUMMARY:No Evening Service
DESCRIPTION:
URL:https://ibcbolingbrook.org/event/no-evening-service-8/
END:VEVENT
BEGIN:VEVENT
DTSTART;TZID=America/Chicago:20251026T133000
DTEND;TZID=America/Chicago:20251026T143000
DTSTAMP:20260424T103744
CREATED:20250925T190239Z
LAST-MODIFIED:20250925T190239Z
UID:9862-1761485400-1761489000@ibcbolingbrook.org
SUMMARY:Guest Speaker: Ivan Villalobos
DESCRIPTION:
URL:https://ibcbolingbrook.org/event/guest-speaker-ivan-villalobos-2/
END:VEVENT
BEGIN:VEVENT
DTSTART;TZID=America/Chicago:20251026T100000
DTEND;TZID=America/Chicago:20251026T110000
DTSTAMP:20260424T103744
CREATED:20250925T190204Z
LAST-MODIFIED:20250925T190204Z
UID:9859-1761472800-1761476400@ibcbolingbrook.org
SUMMARY:Guest Speaker: Ivan Villalobos
DESCRIPTION:
URL:https://ibcbolingbrook.org/event/guest-speaker-ivan-villalobos/
END:VEVENT
BEGIN:VEVENT
DTSTART;TZID=America/Chicago:20251019T190000
DTEND;TZID=America/Chicago:20251019T200000
DTSTAMP:20260424T103744
CREATED:20251006T181415Z
LAST-MODIFIED:20251006T181444Z
UID:9912-1760900400-1760904000@ibcbolingbrook.org
SUMMARY:Pastor Appreciation Fellowship
DESCRIPTION:
URL:https://ibcbolingbrook.org/event/pastor-appreciation-fellowship-hall/
END:VEVENT
BEGIN:VEVENT
DTSTART;TZID=America/Chicago:20251019T180000
DTEND;TZID=America/Chicago:20251019T190000
DTSTAMP:20260424T103744
CREATED:20250925T191128Z
LAST-MODIFIED:20250925T191128Z
UID:9871-1760896800-1760900400@ibcbolingbrook.org
SUMMARY:Ladies Sunday School Class
DESCRIPTION:
URL:https://ibcbolingbrook.org/event/ladies-sunday-school-class-3/
END:VEVENT
BEGIN:VEVENT
DTSTART;TZID=America/Chicago:20251012T180000
DTEND;TZID=America/Chicago:20251012T190000
DTSTAMP:20260424T103744
CREATED:20250925T191056Z
LAST-MODIFIED:20250925T191056Z
UID:9868-1760292000-1760295600@ibcbolingbrook.org
SUMMARY:Ladies Sunday School Class
DESCRIPTION:
URL:https://ibcbolingbrook.org/event/ladies-sunday-school-class-2/
END:VEVENT
BEGIN:VEVENT
DTSTART;TZID=America/Chicago:20251012T180000
DTEND;TZID=America/Chicago:20251012T190000
DTSTAMP:20260424T103744
CREATED:20250925T184310Z
LAST-MODIFIED:20250925T184310Z
UID:9855-1760292000-1760295600@ibcbolingbrook.org
SUMMARY:Guest Speaker: Jim Spears
DESCRIPTION:
URL:https://ibcbolingbrook.org/event/guest-speaker-jim-spears-2/
END:VEVENT
BEGIN:VEVENT
DTSTART;TZID=America/Chicago:20251012T100000
DTEND;TZID=America/Chicago:20251012T110000
DTSTAMP:20260424T103744
CREATED:20250925T184236Z
LAST-MODIFIED:20250925T184236Z
UID:9852-1760263200-1760266800@ibcbolingbrook.org
SUMMARY:Guest Speaker: Jim Spears
DESCRIPTION:
URL:https://ibcbolingbrook.org/event/guest-speaker-jim-spears/
END:VEVENT
BEGIN:VEVENT
DTSTART;TZID=America/Chicago:20251011T150000
DTEND;TZID=America/Chicago:20251011T203000
DTSTAMP:20260424T103744
CREATED:20250709T174018Z
LAST-MODIFIED:20250709T174115Z
UID:9629-1760194800-1760214600@ibcbolingbrook.org
SUMMARY:Teen Fall Fest
DESCRIPTION:
URL:https://ibcbolingbrook.org/event/teen-fall-fest/
END:VEVENT
BEGIN:VEVENT
DTSTART;TZID=America/Chicago:20251005T180000
DTEND;TZID=America/Chicago:20251005T190000
DTSTAMP:20260424T103744
CREATED:20250925T191029Z
LAST-MODIFIED:20250925T191029Z
UID:9865-1759687200-1759690800@ibcbolingbrook.org
SUMMARY:Ladies Sunday School Class
DESCRIPTION:
URL:https://ibcbolingbrook.org/event/ladies-sunday-school-class/
END:VEVENT
BEGIN:VEVENT
DTSTART;VALUE=DATE:20251002
DTEND;VALUE=DATE:20251006
DTSTAMP:20260424T103744
CREATED:20250129T165935Z
LAST-MODIFIED:20250129T165935Z
UID:9098-1759363200-1759708799@ibcbolingbrook.org
SUMMARY:Men's Retreat
DESCRIPTION:
URL:https://ibcbolingbrook.org/event/mens-retreat-3/
END:VEVENT
BEGIN:VEVENT
DTSTART;TZID=America/Chicago:20250928T180000
DTEND;TZID=America/Chicago:20250928T190000
DTSTAMP:20260424T103744
CREATED:20250129T164913Z
LAST-MODIFIED:20250129T164913Z
UID:9058-1759082400-1759086000@ibcbolingbrook.org
SUMMARY:No Evening Service
DESCRIPTION:
URL:https://ibcbolingbrook.org/event/no-evening-service-7/
END:VEVENT
BEGIN:VEVENT
DTSTART;TZID=America/Chicago:20250928T133000
DTEND;TZID=America/Chicago:20250928T143000
DTSTAMP:20260424T103744
CREATED:20250129T164849Z
LAST-MODIFIED:20250813T171826Z
UID:9055-1759066200-1759069800@ibcbolingbrook.org
SUMMARY:Guest Speaker: Mike Shrock
DESCRIPTION:
URL:https://ibcbolingbrook.org/event/afternoon-service-9/
END:VEVENT
BEGIN:VEVENT
DTSTART;TZID=America/Chicago:20250928T100000
DTEND;TZID=America/Chicago:20250928T110000
DTSTAMP:20260424T103744
CREATED:20250129T164824Z
LAST-MODIFIED:20250813T171749Z
UID:9052-1759053600-1759057200@ibcbolingbrook.org
SUMMARY:Guest Speaker: Mike Shrock
DESCRIPTION:
URL:https://ibcbolingbrook.org/event/morning-service-5/
END:VEVENT
BEGIN:VEVENT
DTSTART;TZID=America/Chicago:20250920T080000
DTEND;TZID=America/Chicago:20250920T210000
DTSTAMP:20260424T103744
CREATED:20250813T171928Z
LAST-MODIFIED:20250813T171928Z
UID:9724-1758355200-1758402000@ibcbolingbrook.org
SUMMARY:Teens to Farmtastic
DESCRIPTION:
URL:https://ibcbolingbrook.org/event/teens-to-farmtastic/
END:VEVENT
BEGIN:VEVENT
DTSTART;VALUE=DATE:20250914
DTEND;VALUE=DATE:20250918
DTSTAMP:20260424T103744
CREATED:20250129T165854Z
LAST-MODIFIED:20250129T165854Z
UID:9095-1757808000-1758153599@ibcbolingbrook.org
SUMMARY:Missions Conference
DESCRIPTION:
URL:https://ibcbolingbrook.org/event/missions-conference/
END:VEVENT
BEGIN:VEVENT
DTSTART;VALUE=DATE:20250905
DTEND;VALUE=DATE:20250907
DTSTAMP:20260424T103744
CREATED:20250129T165811Z
LAST-MODIFIED:20250129T165811Z
UID:9092-1757030400-1757203199@ibcbolingbrook.org
SUMMARY:Marriage Retreat
DESCRIPTION:
URL:https://ibcbolingbrook.org/event/marriage-retreat/
END:VEVENT
BEGIN:VEVENT
DTSTART;VALUE=DATE:20250901
DTEND;VALUE=DATE:20250902
DTSTAMP:20260424T103744
CREATED:20250129T170523Z
LAST-MODIFIED:20250129T170523Z
UID:9116-1756684800-1756771199@ibcbolingbrook.org
SUMMARY:Church Office Closed
DESCRIPTION:
URL:https://ibcbolingbrook.org/event/church-office-closed-15/
END:VEVENT
END:VCALENDAR