BEGIN:VCALENDAR
VERSION:2.0
PRODID:-//Independent Baptist Church - ECPv6.15.20//NONSGML v1.0//EN
CALSCALE:GREGORIAN
METHOD:PUBLISH
X-WR-CALNAME:Independent Baptist Church
X-ORIGINAL-URL:https://ibcbolingbrook.org
X-WR-CALDESC:Events for Independent Baptist Church
REFRESH-INTERVAL;VALUE=DURATION:PT1H
X-Robots-Tag:noindex
X-PUBLISHED-TTL:PT1H
BEGIN:VTIMEZONE
TZID:America/Chicago
BEGIN:DAYLIGHT
TZOFFSETFROM:-0600
TZOFFSETTO:-0500
TZNAME:CDT
DTSTART:20230312T080000
END:DAYLIGHT
BEGIN:STANDARD
TZOFFSETFROM:-0500
TZOFFSETTO:-0600
TZNAME:CST
DTSTART:20231105T070000
END:STANDARD
BEGIN:DAYLIGHT
TZOFFSETFROM:-0600
TZOFFSETTO:-0500
TZNAME:CDT
DTSTART:20240310T080000
END:DAYLIGHT
BEGIN:STANDARD
TZOFFSETFROM:-0500
TZOFFSETTO:-0600
TZNAME:CST
DTSTART:20241103T070000
END:STANDARD
BEGIN:DAYLIGHT
TZOFFSETFROM:-0600
TZOFFSETTO:-0500
TZNAME:CDT
DTSTART:20250309T080000
END:DAYLIGHT
BEGIN:STANDARD
TZOFFSETFROM:-0500
TZOFFSETTO:-0600
TZNAME:CST
DTSTART:20251102T070000
END:STANDARD
END:VTIMEZONE
BEGIN:VEVENT
DTSTART;TZID=America/Chicago:20240922T100000
DTEND;TZID=America/Chicago:20240922T110000
DTSTAMP:20260424T223735
CREATED:20240919T170204Z
LAST-MODIFIED:20240919T170204Z
UID:8515-1726999200-1727002800@ibcbolingbrook.org
SUMMARY:The Lord's Supper
DESCRIPTION:
URL:https://ibcbolingbrook.org/event/the-lords-supper/
END:VEVENT
BEGIN:VEVENT
DTSTART;VALUE=DATE:20240921
DTEND;VALUE=DATE:20240922
DTSTAMP:20260424T223735
CREATED:20240710T195223Z
LAST-MODIFIED:20240710T195223Z
UID:8343-1726876800-1726963199@ibcbolingbrook.org
SUMMARY:Teens to Farm Fest
DESCRIPTION:Peru\, Illinois
URL:https://ibcbolingbrook.org/event/teens-to-farm-fest/
END:VEVENT
BEGIN:VEVENT
DTSTART;TZID=America/Chicago:20240914T090000
DTEND;TZID=America/Chicago:20240914T130000
DTSTAMP:20260424T223735
CREATED:20240226T202652Z
LAST-MODIFIED:20240710T194817Z
UID:7862-1726304400-1726318800@ibcbolingbrook.org
SUMMARY:Ladies Conference & Brunch w/ Joan Tillotson
DESCRIPTION:Guest Speaker: Joan Tilotson
URL:https://ibcbolingbrook.org/event/ladies-conference-brunch-guest-speaker-joan-tilotson/
END:VEVENT
BEGIN:VEVENT
DTSTART;VALUE=DATE:20240902
DTEND;VALUE=DATE:20240903
DTSTAMP:20260424T223735
CREATED:20240226T204354Z
LAST-MODIFIED:20240226T204354Z
UID:7906-1725235200-1725321599@ibcbolingbrook.org
SUMMARY:Church Office Closed
DESCRIPTION:
URL:https://ibcbolingbrook.org/event/church-office-closed-9/
END:VEVENT
BEGIN:VEVENT
DTSTART;TZID=America/Chicago:20240901T113000
DTEND;TZID=America/Chicago:20240901T160000
DTSTAMP:20260424T223735
CREATED:20240710T194639Z
LAST-MODIFIED:20240806T144953Z
UID:8329-1725190200-1725206400@ibcbolingbrook.org
SUMMARY:IBC Friend Day & Picnic
DESCRIPTION:
URL:https://ibcbolingbrook.org/event/ibc-friend-day-picnic/
END:VEVENT
BEGIN:VEVENT
DTSTART;TZID=America/Chicago:20240828T190000
DTEND;TZID=America/Chicago:20240828T200000
DTSTAMP:20260424T223735
CREATED:20240710T194906Z
LAST-MODIFIED:20240710T194906Z
UID:8334-1724871600-1724875200@ibcbolingbrook.org
SUMMARY:Kids4Truth Begins
DESCRIPTION:
URL:https://ibcbolingbrook.org/event/kids4truth-begins/
END:VEVENT
BEGIN:VEVENT
DTSTART;TZID=America/Chicago:20240825T180000
DTEND;TZID=America/Chicago:20240825T190000
DTSTAMP:20260424T223735
CREATED:20240226T202456Z
LAST-MODIFIED:20240226T202456Z
UID:7856-1724608800-1724612400@ibcbolingbrook.org
SUMMARY:Joanna Smith Missionary to Columbia
DESCRIPTION:
URL:https://ibcbolingbrook.org/event/joanna-smith-missionary-to-columbia/
END:VEVENT
BEGIN:VEVENT
DTSTART;TZID=America/Chicago:20240811T180000
DTEND;TZID=America/Chicago:20240811T200000
DTSTAMP:20260424T223735
CREATED:20240710T194954Z
LAST-MODIFIED:20240710T194954Z
UID:8337-1723399200-1723406400@ibcbolingbrook.org
SUMMARY:Faith Bible Institute Begins
DESCRIPTION:
URL:https://ibcbolingbrook.org/event/faith-bible-institute-begins/
END:VEVENT
BEGIN:VEVENT
DTSTART;TZID=America/Chicago:20240810T150000
DTEND;TZID=America/Chicago:20240810T180000
DTSTAMP:20260424T223735
CREATED:20240710T195049Z
LAST-MODIFIED:20240710T195049Z
UID:8340-1723302000-1723312800@ibcbolingbrook.org
SUMMARY:Teen Water Wars Activity
DESCRIPTION:
URL:https://ibcbolingbrook.org/event/teen-water-wars-activity-2/
END:VEVENT
BEGIN:VEVENT
DTSTART;VALUE=DATE:20240802
DTEND;VALUE=DATE:20240803
DTSTAMP:20260424T223735
CREATED:20240226T202541Z
LAST-MODIFIED:20240226T202541Z
UID:7859-1722556800-1722643199@ibcbolingbrook.org
SUMMARY:Allman/Rennie Wedding
DESCRIPTION:
URL:https://ibcbolingbrook.org/event/allman-rennie-wedding/
END:VEVENT
BEGIN:VEVENT
DTSTART;TZID=America/Chicago:20240724T090000
DTEND;TZID=America/Chicago:20240726T120000
DTSTAMP:20260424T223735
CREATED:20240226T202247Z
LAST-MODIFIED:20240422T192542Z
UID:7850-1721811600-1721995200@ibcbolingbrook.org
SUMMARY:IBC Youth Soccer Camp
DESCRIPTION:
URL:https://ibcbolingbrook.org/event/ibc-youth-soccer-camp-4/
END:VEVENT
BEGIN:VEVENT
DTSTART;VALUE=DATE:20240704
DTEND;VALUE=DATE:20240705
DTSTAMP:20260424T223735
CREATED:20240226T204428Z
LAST-MODIFIED:20240226T204428Z
UID:7909-1720051200-1720137599@ibcbolingbrook.org
SUMMARY:Church Office Closed
DESCRIPTION:
URL:https://ibcbolingbrook.org/event/church-office-closed-10/
END:VEVENT
BEGIN:VEVENT
DTSTART;TZID=America/Chicago:20240630T100000
DTEND;TZID=America/Chicago:20240630T143000
DTSTAMP:20260424T223735
CREATED:20240226T203212Z
LAST-MODIFIED:20240530T201241Z
UID:7875-1719741600-1719757800@ibcbolingbrook.org
SUMMARY:5th Sunday Service Schedule
DESCRIPTION:10:00 a.m. Service\n1:30 p.m. Servcie \nNo Evening Service
URL:https://ibcbolingbrook.org/event/5th-sunday-service-schedule-12/
END:VEVENT
BEGIN:VEVENT
DTSTART;TZID=America/Chicago:20240626T190000
DTEND;TZID=America/Chicago:20240626T200000
DTSTAMP:20260424T223735
CREATED:20240530T200021Z
LAST-MODIFIED:20240530T200021Z
UID:8203-1719428400-1719432000@ibcbolingbrook.org
SUMMARY:Kids Summer Program 1st - 6th Grade
DESCRIPTION:
URL:https://ibcbolingbrook.org/event/kids-summer-program-1st-6th-grade/
END:VEVENT
BEGIN:VEVENT
DTSTART;TZID=America/Chicago:20240626T183000
DTEND;TZID=America/Chicago:20240626T200000
DTSTAMP:20260424T223735
CREATED:20240530T195326Z
LAST-MODIFIED:20240530T200506Z
UID:8200-1719426600-1719432000@ibcbolingbrook.org
SUMMARY:Youth Group 7th -12th Grades
DESCRIPTION:
URL:https://ibcbolingbrook.org/event/youth-group-38/
END:VEVENT
BEGIN:VEVENT
DTSTART;TZID=America/Chicago:20240623T180000
DTEND;TZID=America/Chicago:20240623T190000
DTSTAMP:20260424T223735
CREATED:20240530T200914Z
LAST-MODIFIED:20240530T200914Z
UID:8221-1719165600-1719169200@ibcbolingbrook.org
SUMMARY:Missionary Aaron Inventor
DESCRIPTION:
URL:https://ibcbolingbrook.org/event/missionary-aaron-inventor-2/
END:VEVENT
BEGIN:VEVENT
DTSTART;TZID=America/Chicago:20240623T100000
DTEND;TZID=America/Chicago:20240623T110000
DTSTAMP:20260424T223735
CREATED:20240530T200840Z
LAST-MODIFIED:20240530T200840Z
UID:8217-1719136800-1719140400@ibcbolingbrook.org
SUMMARY:Missionary Aaron Inventor
DESCRIPTION:
URL:https://ibcbolingbrook.org/event/missionary-aaron-inventor/
END:VEVENT
BEGIN:VEVENT
DTSTART;VALUE=DATE:20240621
DTEND;VALUE=DATE:20240702
DTSTAMP:20260424T223735
CREATED:20240226T200138Z
LAST-MODIFIED:20240226T200138Z
UID:7844-1718928000-1719878399@ibcbolingbrook.org
SUMMARY:Costa Rica Missions Trip
DESCRIPTION:
URL:https://ibcbolingbrook.org/event/costa-rica-missions-trip-2/
END:VEVENT
BEGIN:VEVENT
DTSTART;TZID=America/Chicago:20240619T190000
DTEND;TZID=America/Chicago:20240619T200000
DTSTAMP:20260424T223735
CREATED:20240530T195200Z
LAST-MODIFIED:20240530T195200Z
UID:8196-1718823600-1718827200@ibcbolingbrook.org
SUMMARY:Kids Summer Program 1st - 6th Grades
DESCRIPTION:
URL:https://ibcbolingbrook.org/event/kids-summer-program-1st-6th-grades-2/
END:VEVENT
BEGIN:VEVENT
DTSTART;VALUE=DATE:20240619
DTEND;VALUE=DATE:20240620
DTSTAMP:20260424T223735
CREATED:20240530T195121Z
LAST-MODIFIED:20240617T194007Z
UID:8193-1718755200-1718841599@ibcbolingbrook.org
SUMMARY:No Youth Group 7th - 12th Grades
DESCRIPTION:
URL:https://ibcbolingbrook.org/event/youth-group-37/
END:VEVENT
BEGIN:VEVENT
DTSTART;TZID=America/Chicago:20240612T190000
DTEND;TZID=America/Chicago:20240612T200000
DTSTAMP:20260424T223735
CREATED:20240530T200123Z
LAST-MODIFIED:20240530T200123Z
UID:8206-1718218800-1718222400@ibcbolingbrook.org
SUMMARY:Kids Summer Program 1st - 6th Grades
DESCRIPTION:
URL:https://ibcbolingbrook.org/event/kids-summer-program-1st-6th-grades-3/
END:VEVENT
BEGIN:VEVENT
DTSTART;TZID=America/Chicago:20240612T183000
DTEND;TZID=America/Chicago:20240612T200000
DTSTAMP:20260424T223735
CREATED:20240530T194901Z
LAST-MODIFIED:20240617T193926Z
UID:8186-1718217000-1718222400@ibcbolingbrook.org
SUMMARY:Youth Group
DESCRIPTION:
URL:https://ibcbolingbrook.org/event/no-youth-group/
END:VEVENT
BEGIN:VEVENT
DTSTART;TZID=America/Chicago:20240605T190000
DTEND;TZID=America/Chicago:20240605T200000
DTSTAMP:20260424T223735
CREATED:20240530T194941Z
LAST-MODIFIED:20240530T195040Z
UID:8189-1717614000-1717617600@ibcbolingbrook.org
SUMMARY:Kids Summer Program 1st - 6th Grades
DESCRIPTION:
URL:https://ibcbolingbrook.org/event/kids-summer-program/
END:VEVENT
BEGIN:VEVENT
DTSTART;TZID=America/Chicago:20240605T183000
DTEND;TZID=America/Chicago:20240605T200000
DTSTAMP:20260424T223735
CREATED:20240530T194658Z
LAST-MODIFIED:20240530T200726Z
UID:8180-1717612200-1717617600@ibcbolingbrook.org
SUMMARY:Youth Group 7th -12th Grades
DESCRIPTION:
URL:https://ibcbolingbrook.org/event/youth-group-36/
END:VEVENT
BEGIN:VEVENT
DTSTART;VALUE=DATE:20240602
DTEND;VALUE=DATE:20240603
DTSTAMP:20260424T223735
CREATED:20240226T200025Z
LAST-MODIFIED:20240226T200025Z
UID:7841-1717286400-1717372799@ibcbolingbrook.org
SUMMARY:Promotion Sunday
DESCRIPTION:
URL:https://ibcbolingbrook.org/event/promotion-sunday-2/
END:VEVENT
BEGIN:VEVENT
DTSTART;TZID=America/Chicago:20240529T190000
DTEND;TZID=America/Chicago:20240529T200000
DTSTAMP:20260424T223735
CREATED:20240530T194813Z
LAST-MODIFIED:20240530T194813Z
UID:8183-1717009200-1717012800@ibcbolingbrook.org
SUMMARY:Kids Summer Program 1st -6th Grades
DESCRIPTION:
URL:https://ibcbolingbrook.org/event/kids-summer-program-1st-6th-grades/
END:VEVENT
BEGIN:VEVENT
DTSTART;TZID=America/Chicago:20240529T190000
DTEND;TZID=America/Chicago:20240529T200000
DTSTAMP:20260424T223735
CREATED:20240226T195843Z
LAST-MODIFIED:20240422T191142Z
UID:7838-1717009200-1717012800@ibcbolingbrook.org
SUMMARY:Parents of Teens Meeting (No Youth Group)
DESCRIPTION:3rd Level
URL:https://ibcbolingbrook.org/event/parents-of-teens-meeting-3/
END:VEVENT
BEGIN:VEVENT
DTSTART;TZID=America/Chicago:20240527T110000
DTEND;TZID=America/Chicago:20240527T150000
DTSTAMP:20260424T223735
CREATED:20240422T191333Z
LAST-MODIFIED:20240422T191333Z
UID:8073-1716807600-1716822000@ibcbolingbrook.org
SUMMARY:Teen Memorial Day Picnic
DESCRIPTION:Bulldog Park\, Bolingbrook
URL:https://ibcbolingbrook.org/event/teen-memorial-day-picnic-6/
END:VEVENT
BEGIN:VEVENT
DTSTART;VALUE=DATE:20240527
DTEND;VALUE=DATE:20240528
DTSTAMP:20260424T223735
CREATED:20240226T204518Z
LAST-MODIFIED:20240226T204518Z
UID:7912-1716768000-1716854399@ibcbolingbrook.org
SUMMARY:Church Office Closed
DESCRIPTION:
URL:https://ibcbolingbrook.org/event/church-office-closed-11/
END:VEVENT
BEGIN:VEVENT
DTSTART;TZID=America/Chicago:20240526T180000
DTEND;TZID=America/Chicago:20240526T180000
DTSTAMP:20260424T223735
CREATED:20240226T193516Z
LAST-MODIFIED:20240226T193516Z
UID:7835-1716746400-1716746400@ibcbolingbrook.org
SUMMARY:Teen Night
DESCRIPTION:
URL:https://ibcbolingbrook.org/event/teen-night-5/
END:VEVENT
END:VCALENDAR