BEGIN:VCALENDAR
VERSION:2.0
PRODID:-//Independent Baptist Church - ECPv6.15.20//NONSGML v1.0//EN
CALSCALE:GREGORIAN
METHOD:PUBLISH
X-WR-CALNAME:Independent Baptist Church
X-ORIGINAL-URL:https://ibcbolingbrook.org
X-WR-CALDESC:Events for Independent Baptist Church
REFRESH-INTERVAL;VALUE=DURATION:PT1H
X-Robots-Tag:noindex
X-PUBLISHED-TTL:PT1H
BEGIN:VTIMEZONE
TZID:America/Chicago
BEGIN:DAYLIGHT
TZOFFSETFROM:-0600
TZOFFSETTO:-0500
TZNAME:CDT
DTSTART:20230312T080000
END:DAYLIGHT
BEGIN:STANDARD
TZOFFSETFROM:-0500
TZOFFSETTO:-0600
TZNAME:CST
DTSTART:20231105T070000
END:STANDARD
BEGIN:DAYLIGHT
TZOFFSETFROM:-0600
TZOFFSETTO:-0500
TZNAME:CDT
DTSTART:20240310T080000
END:DAYLIGHT
BEGIN:STANDARD
TZOFFSETFROM:-0500
TZOFFSETTO:-0600
TZNAME:CST
DTSTART:20241103T070000
END:STANDARD
BEGIN:DAYLIGHT
TZOFFSETFROM:-0600
TZOFFSETTO:-0500
TZNAME:CDT
DTSTART:20250309T080000
END:DAYLIGHT
BEGIN:STANDARD
TZOFFSETFROM:-0500
TZOFFSETTO:-0600
TZNAME:CST
DTSTART:20251102T070000
END:STANDARD
BEGIN:DAYLIGHT
TZOFFSETFROM:-0600
TZOFFSETTO:-0500
TZNAME:CDT
DTSTART:20260308T080000
END:DAYLIGHT
BEGIN:STANDARD
TZOFFSETFROM:-0500
TZOFFSETTO:-0600
TZNAME:CST
DTSTART:20261101T070000
END:STANDARD
END:VTIMEZONE
BEGIN:VEVENT
DTSTART;TZID=America/Chicago:20250223T180000
DTEND;TZID=America/Chicago:20250223T190000
DTSTAMP:20260424T163302
CREATED:20250129T164049Z
LAST-MODIFIED:20250129T164049Z
UID:9019-1740333600-1740337200@ibcbolingbrook.org
SUMMARY:No Evening Service
DESCRIPTION:
URL:https://ibcbolingbrook.org/event/no-evening-service-4/
END:VEVENT
BEGIN:VEVENT
DTSTART;TZID=America/Chicago:20250223T133000
DTEND;TZID=America/Chicago:20250223T143000
DTSTAMP:20260424T163302
CREATED:20250129T164021Z
LAST-MODIFIED:20250129T164021Z
UID:9016-1740317400-1740321000@ibcbolingbrook.org
SUMMARY:Afternoon Service
DESCRIPTION:
URL:https://ibcbolingbrook.org/event/afternoon-service-5/
END:VEVENT
BEGIN:VEVENT
DTSTART;TZID=America/Chicago:20250223T100000
DTEND;TZID=America/Chicago:20250223T110000
DTSTAMP:20260424T163302
CREATED:20241125T183335Z
LAST-MODIFIED:20250129T163939Z
UID:8763-1740304800-1740308400@ibcbolingbrook.org
SUMMARY:Morning Service
DESCRIPTION:10:00 a.m. Morning Service \n1:30 p.m. Afternoon Service \nNo Evening Service
URL:https://ibcbolingbrook.org/event/last-sunday-of-the-month-schedule-2/
END:VEVENT
BEGIN:VEVENT
DTSTART;TZID=America/Chicago:20250221T183000
DTEND;TZID=America/Chicago:20250221T210000
DTSTAMP:20260424T163302
CREATED:20250129T162509Z
LAST-MODIFIED:20250129T162606Z
UID:8976-1740162600-1740171600@ibcbolingbrook.org
SUMMARY:Teen Gala
DESCRIPTION:at Clara’s Italian Restaurant
URL:https://ibcbolingbrook.org/event/teen-gala/
END:VEVENT
BEGIN:VEVENT
DTSTART;TZID=America/Chicago:20250216T180000
DTEND;TZID=America/Chicago:20250216T190000
DTSTAMP:20260424T163302
CREATED:20241212T192226Z
LAST-MODIFIED:20241212T192352Z
UID:8815-1739728800-1739732400@ibcbolingbrook.org
SUMMARY:Dr. Andrew Counterman
DESCRIPTION:
URL:https://ibcbolingbrook.org/event/missionary-andrew-counterman-2/
END:VEVENT
BEGIN:VEVENT
DTSTART;TZID=America/Chicago:20250216T100000
DTEND;TZID=America/Chicago:20250216T110000
DTSTAMP:20260424T163302
CREATED:20241212T192154Z
LAST-MODIFIED:20241212T192418Z
UID:8812-1739700000-1739703600@ibcbolingbrook.org
SUMMARY:Dr. Andrew Counterman
DESCRIPTION:
URL:https://ibcbolingbrook.org/event/missionary-andrew-counterman/
END:VEVENT
BEGIN:VEVENT
DTSTART;TZID=America/Chicago:20250131T180000
DTEND;TZID=America/Chicago:20250131T203000
DTSTAMP:20260424T163302
CREATED:20241230T184742Z
LAST-MODIFIED:20250129T162411Z
UID:8867-1738346400-1738355400@ibcbolingbrook.org
SUMMARY:Adult Pizza & Game Fellowship
DESCRIPTION:
URL:https://ibcbolingbrook.org/event/adult-pizza-game-activity/
END:VEVENT
BEGIN:VEVENT
DTSTART;TZID=America/Chicago:20250126T100000
DTEND;TZID=America/Chicago:20250126T143000
DTSTAMP:20260424T163302
CREATED:20241125T183049Z
LAST-MODIFIED:20241125T183049Z
UID:8757-1737885600-1737901800@ibcbolingbrook.org
SUMMARY:Last Sunday of the Month Schedule
DESCRIPTION:10:00 a.m. Morning Service \n1:30 p.m. Afternoon Servcie \nNo evening Service
URL:https://ibcbolingbrook.org/event/last-sunday-of-the-month-schedule/
END:VEVENT
BEGIN:VEVENT
DTSTART;TZID=America/Chicago:20250112T190000
DTEND;TZID=America/Chicago:20250112T203000
DTSTAMP:20260424T163302
CREATED:20241230T184645Z
LAST-MODIFIED:20241230T184645Z
UID:8864-1736708400-1736713800@ibcbolingbrook.org
SUMMARY:Rea Send-Off Fellowship
DESCRIPTION:
URL:https://ibcbolingbrook.org/event/rea-send-off-fellowship/
END:VEVENT
BEGIN:VEVENT
DTSTART;TZID=America/Chicago:20250112T180000
DTEND;TZID=America/Chicago:20250112T200000
DTSTAMP:20260424T163302
CREATED:20241125T182909Z
LAST-MODIFIED:20241125T182909Z
UID:8754-1736704800-1736712000@ibcbolingbrook.org
SUMMARY:Faith Bible Institute Spring Semester Begins
DESCRIPTION:
URL:https://ibcbolingbrook.org/event/faith-bible-institute-spring-semester-begins-2/
END:VEVENT
BEGIN:VEVENT
DTSTART;TZID=America/Chicago:20250112T163000
DTEND;TZID=America/Chicago:20250112T173000
DTSTAMP:20260424T163302
CREATED:20241125T182833Z
LAST-MODIFIED:20241125T182833Z
UID:8751-1736699400-1736703000@ibcbolingbrook.org
SUMMARY:Annual Children's Workers Meeting
DESCRIPTION:
URL:https://ibcbolingbrook.org/event/annual-childrens-workers-meeting/
END:VEVENT
BEGIN:VEVENT
DTSTART;VALUE=DATE:20250101
DTEND;VALUE=DATE:20250102
DTSTAMP:20260424T163302
CREATED:20241212T191741Z
LAST-MODIFIED:20241212T191741Z
UID:8809-1735689600-1735775999@ibcbolingbrook.org
SUMMARY:Church Office Closed
DESCRIPTION:
URL:https://ibcbolingbrook.org/event/church-office-closed-12/
END:VEVENT
BEGIN:VEVENT
DTSTART;TZID=America/Chicago:20241229T100000
DTEND;TZID=America/Chicago:20241229T143000
DTSTAMP:20260424T163302
CREATED:20240226T204108Z
LAST-MODIFIED:20240226T204108Z
UID:7897-1735466400-1735482600@ibcbolingbrook.org
SUMMARY:5th Sunday Service Schedule
DESCRIPTION:10:00 a.m Servcie \n1:30 p.m Service \nNo Evening Service
URL:https://ibcbolingbrook.org/event/5th-sunday-service-schedule-14/
END:VEVENT
BEGIN:VEVENT
DTSTART;VALUE=DATE:20241225
DTEND;VALUE=DATE:20241227
DTSTAMP:20260424T163302
CREATED:20240226T204211Z
LAST-MODIFIED:20241212T191532Z
UID:7900-1735084800-1735257599@ibcbolingbrook.org
SUMMARY:Church Office Closed
DESCRIPTION:
URL:https://ibcbolingbrook.org/event/church-office-closed-7/
END:VEVENT
BEGIN:VEVENT
DTSTART;TZID=America/Chicago:20241224T190000
DTEND;TZID=America/Chicago:20241224T200000
DTSTAMP:20260424T163302
CREATED:20241107T184147Z
LAST-MODIFIED:20241125T182725Z
UID:8695-1735066800-1735070400@ibcbolingbrook.org
SUMMARY:Christmas Eve Candlelight Service
DESCRIPTION:
URL:https://ibcbolingbrook.org/event/christmas-candlelight-service/
END:VEVENT
BEGIN:VEVENT
DTSTART;TZID=America/Chicago:20241218T183000
DTEND;TZID=America/Chicago:20241218T200000
DTSTAMP:20260424T163302
CREATED:20241125T195550Z
LAST-MODIFIED:20241125T195550Z
UID:8766-1734546600-1734552000@ibcbolingbrook.org
SUMMARY:Teens to Heritage Woods
DESCRIPTION:
URL:https://ibcbolingbrook.org/event/teens-to-heritage-woods-5/
END:VEVENT
BEGIN:VEVENT
DTSTART;TZID=America/Chicago:20241215T100000
DTEND;TZID=America/Chicago:20241215T110000
DTSTAMP:20260424T163302
CREATED:20241107T184103Z
LAST-MODIFIED:20241125T182642Z
UID:8692-1734256800-1734260400@ibcbolingbrook.org
SUMMARY:IBC Christmas Cantata
DESCRIPTION:
URL:https://ibcbolingbrook.org/event/ibc-christmas-concert-2/
END:VEVENT
BEGIN:VEVENT
DTSTART;TZID=America/Chicago:20241213T193000
DTEND;TZID=America/Chicago:20241213T220000
DTSTAMP:20260424T163302
CREATED:20241107T184025Z
LAST-MODIFIED:20241107T184025Z
UID:8689-1734118200-1734127200@ibcbolingbrook.org
SUMMARY:40 & Up Activity "A Christmas Carol"
DESCRIPTION:
URL:https://ibcbolingbrook.org/event/40-up-activity-a-christmas-carol/
END:VEVENT
BEGIN:VEVENT
DTSTART;TZID=America/Chicago:20241211T183000
DTEND;TZID=America/Chicago:20241211T200000
DTSTAMP:20260424T163302
CREATED:20241003T201235Z
LAST-MODIFIED:20241003T201235Z
UID:8583-1733941800-1733947200@ibcbolingbrook.org
SUMMARY:Teen Christmas Party
DESCRIPTION:
URL:https://ibcbolingbrook.org/event/teen-christmas-party-2/
END:VEVENT
BEGIN:VEVENT
DTSTART;TZID=America/Chicago:20241211T183000
DTEND;TZID=America/Chicago:20241211T200000
DTSTAMP:20260424T163302
CREATED:20241003T201207Z
LAST-MODIFIED:20241003T201207Z
UID:8580-1733941800-1733947200@ibcbolingbrook.org
SUMMARY:Kids4Truth Christmas Party
DESCRIPTION:
URL:https://ibcbolingbrook.org/event/kids4truth-christmas-party-3/
END:VEVENT
BEGIN:VEVENT
DTSTART;TZID=America/Chicago:20241207T173000
DTEND;TZID=America/Chicago:20241207T203000
DTSTAMP:20260424T163302
CREATED:20240226T203828Z
LAST-MODIFIED:20240226T203828Z
UID:7891-1733592600-1733603400@ibcbolingbrook.org
SUMMARY:IBC Adult Christmas Party
DESCRIPTION:
URL:https://ibcbolingbrook.org/event/ibc-adult-christmas-party-2/
END:VEVENT
BEGIN:VEVENT
DTSTART;TZID=America/Chicago:20241201T180000
DTEND;TZID=America/Chicago:20241201T190000
DTSTAMP:20260424T163302
CREATED:20240226T203935Z
LAST-MODIFIED:20240226T203935Z
UID:7894-1733076000-1733079600@ibcbolingbrook.org
SUMMARY:Annual Business Meeting
DESCRIPTION:
URL:https://ibcbolingbrook.org/event/annual-business-meeting-3/
END:VEVENT
BEGIN:VEVENT
DTSTART;TZID=America/Chicago:20241201T100000
DTEND;TZID=America/Chicago:20241201T110000
DTSTAMP:20260424T163302
CREATED:20241125T182557Z
LAST-MODIFIED:20241125T182557Z
UID:8744-1733047200-1733050800@ibcbolingbrook.org
SUMMARY:Baptism
DESCRIPTION:
URL:https://ibcbolingbrook.org/event/baptism/
END:VEVENT
BEGIN:VEVENT
DTSTART;VALUE=DATE:20241128
DTEND;VALUE=DATE:20241130
DTSTAMP:20260424T163302
CREATED:20240226T204317Z
LAST-MODIFIED:20241107T183910Z
UID:7903-1732752000-1732924799@ibcbolingbrook.org
SUMMARY:Church Office Closed
DESCRIPTION:
URL:https://ibcbolingbrook.org/event/church-office-closed-8/
END:VEVENT
BEGIN:VEVENT
DTSTART;TZID=America/Chicago:20241126T190000
DTEND;TZID=America/Chicago:20241126T200000
DTSTAMP:20260424T163302
CREATED:20240919T171249Z
LAST-MODIFIED:20240919T171249Z
UID:8542-1732647600-1732651200@ibcbolingbrook.org
SUMMARY:Praise & Pie Servcie
DESCRIPTION:
URL:https://ibcbolingbrook.org/event/praise-pie-servcie/
END:VEVENT
BEGIN:VEVENT
DTSTART;TZID=America/Chicago:20241124T180000
DTEND;TZID=America/Chicago:20241124T190000
DTSTAMP:20260424T163302
CREATED:20240919T170809Z
LAST-MODIFIED:20240919T170809Z
UID:8534-1732471200-1732474800@ibcbolingbrook.org
SUMMARY:Special Speaker: Chris Anderson
DESCRIPTION:
URL:https://ibcbolingbrook.org/event/special-speaker-chris-anderson-2/
END:VEVENT
BEGIN:VEVENT
DTSTART;TZID=America/Chicago:20241124T100000
DTEND;TZID=America/Chicago:20241124T110000
DTSTAMP:20260424T163302
CREATED:20240919T170737Z
LAST-MODIFIED:20240919T170737Z
UID:8531-1732442400-1732446000@ibcbolingbrook.org
SUMMARY:Special Speaker: Chris Anderson
DESCRIPTION:
URL:https://ibcbolingbrook.org/event/special-speaker-chris-anderson/
END:VEVENT
BEGIN:VEVENT
DTSTART;TZID=America/Chicago:20241117T180000
DTEND;TZID=America/Chicago:20241117T190000
DTSTAMP:20260424T163302
CREATED:20241107T183627Z
LAST-MODIFIED:20241107T183627Z
UID:8682-1731866400-1731870000@ibcbolingbrook.org
SUMMARY:Special Speaker: Samuel White
DESCRIPTION:
URL:https://ibcbolingbrook.org/event/special-speaker-samuel-white/
END:VEVENT
BEGIN:VEVENT
DTSTART;TZID=America/Chicago:20241103T100000
DTEND;TZID=America/Chicago:20241103T110000
DTSTAMP:20260424T163302
CREATED:20241107T183736Z
LAST-MODIFIED:20241107T183736Z
UID:8685-1730628000-1730631600@ibcbolingbrook.org
SUMMARY:Special Speaker: Max Barker
DESCRIPTION:
URL:https://ibcbolingbrook.org/event/special-speaker-max-barker/
END:VEVENT
BEGIN:VEVENT
DTSTART;TZID=America/Chicago:20241102T150000
DTEND;TZID=America/Chicago:20241102T203000
DTSTAMP:20260424T163302
CREATED:20240919T170931Z
LAST-MODIFIED:20240919T170931Z
UID:8538-1730559600-1730579400@ibcbolingbrook.org
SUMMARY:IBC Teen Fall Festival
DESCRIPTION:
URL:https://ibcbolingbrook.org/event/ibc-teen-fall-festival-2/
END:VEVENT
END:VCALENDAR