BEGIN:VCALENDAR
VERSION:2.0
PRODID:-//Independent Baptist Church - ECPv6.15.20//NONSGML v1.0//EN
CALSCALE:GREGORIAN
METHOD:PUBLISH
X-WR-CALNAME:Independent Baptist Church
X-ORIGINAL-URL:https://ibcbolingbrook.org
X-WR-CALDESC:Events for Independent Baptist Church
REFRESH-INTERVAL;VALUE=DURATION:PT1H
X-Robots-Tag:noindex
X-PUBLISHED-TTL:PT1H
BEGIN:VTIMEZONE
TZID:America/Chicago
BEGIN:DAYLIGHT
TZOFFSETFROM:-0600
TZOFFSETTO:-0500
TZNAME:CDT
DTSTART:20240310T080000
END:DAYLIGHT
BEGIN:STANDARD
TZOFFSETFROM:-0500
TZOFFSETTO:-0600
TZNAME:CST
DTSTART:20241103T070000
END:STANDARD
BEGIN:DAYLIGHT
TZOFFSETFROM:-0600
TZOFFSETTO:-0500
TZNAME:CDT
DTSTART:20250309T080000
END:DAYLIGHT
BEGIN:STANDARD
TZOFFSETFROM:-0500
TZOFFSETTO:-0600
TZNAME:CST
DTSTART:20251102T070000
END:STANDARD
BEGIN:DAYLIGHT
TZOFFSETFROM:-0600
TZOFFSETTO:-0500
TZNAME:CDT
DTSTART:20260308T080000
END:DAYLIGHT
BEGIN:STANDARD
TZOFFSETFROM:-0500
TZOFFSETTO:-0600
TZNAME:CST
DTSTART:20261101T070000
END:STANDARD
END:VTIMEZONE
BEGIN:VEVENT
DTSTART;TZID=America/Chicago:20250528T183000
DTEND;TZID=America/Chicago:20250528T200000
DTSTAMP:20260424T150925
CREATED:20250327T163100Z
LAST-MODIFIED:20250327T163100Z
UID:9307-1748457000-1748462400@ibcbolingbrook.org
SUMMARY:Kids4Truth End of Year Party
DESCRIPTION:
URL:https://ibcbolingbrook.org/event/kids4truth-end-of-year-party-2/
END:VEVENT
BEGIN:VEVENT
DTSTART;TZID=America/Chicago:20250526T110000
DTEND;TZID=America/Chicago:20250526T150000
DTSTAMP:20260424T150925
CREATED:20250226T173805Z
LAST-MODIFIED:20250226T173805Z
UID:9228-1748257200-1748271600@ibcbolingbrook.org
SUMMARY:Teen Memorial Day Picnic
DESCRIPTION:
URL:https://ibcbolingbrook.org/event/teen-memorial-day-picnic-7/
END:VEVENT
BEGIN:VEVENT
DTSTART;VALUE=DATE:20250526
DTEND;VALUE=DATE:20250527
DTSTAMP:20260424T150925
CREATED:20241230T185514Z
LAST-MODIFIED:20241230T185514Z
UID:8883-1748217600-1748303999@ibcbolingbrook.org
SUMMARY:Church Office Closed
DESCRIPTION:
URL:https://ibcbolingbrook.org/event/church-office-closed-13/
END:VEVENT
BEGIN:VEVENT
DTSTART;TZID=America/Chicago:20250525T180000
DTEND;TZID=America/Chicago:20250525T190000
DTSTAMP:20260424T150925
CREATED:20250129T163424Z
LAST-MODIFIED:20250129T164209Z
UID:8995-1748196000-1748199600@ibcbolingbrook.org
SUMMARY:No Evening Service
DESCRIPTION:
URL:https://ibcbolingbrook.org/event/no-service/
END:VEVENT
BEGIN:VEVENT
DTSTART;TZID=America/Chicago:20250525T133000
DTEND;TZID=America/Chicago:20250525T143000
DTSTAMP:20260424T150925
CREATED:20250129T163217Z
LAST-MODIFIED:20250129T163217Z
UID:8989-1748179800-1748183400@ibcbolingbrook.org
SUMMARY:Afternoon Service
DESCRIPTION:
URL:https://ibcbolingbrook.org/event/afternoon-service-2/
END:VEVENT
BEGIN:VEVENT
DTSTART;TZID=America/Chicago:20250525T100000
DTEND;TZID=America/Chicago:20250525T110000
DTSTAMP:20260424T150925
CREATED:20250129T163107Z
LAST-MODIFIED:20250129T163147Z
UID:8985-1748167200-1748170800@ibcbolingbrook.org
SUMMARY:Morning Service
DESCRIPTION:10:00 a.m. – Morning Service 1:30 p.m. – Afternoon Service No 6:00 p.m. Service
URL:https://ibcbolingbrook.org/event/last-sunday-of-the-month-schedule-7/
END:VEVENT
BEGIN:VEVENT
DTSTART;TZID=America/Chicago:20250521T190000
DTEND;TZID=America/Chicago:20250521T200000
DTSTAMP:20260424T150925
CREATED:20250218T201839Z
LAST-MODIFIED:20250327T163239Z
UID:9177-1747854000-1747857600@ibcbolingbrook.org
SUMMARY:Kids4Truth Program
DESCRIPTION:
URL:https://ibcbolingbrook.org/event/kids4truth-program-end-of-year-party/
END:VEVENT
BEGIN:VEVENT
DTSTART;TZID=America/Chicago:20250518T163000
DTEND;TZID=America/Chicago:20250518T173000
DTSTAMP:20260424T150925
CREATED:20250226T173536Z
LAST-MODIFIED:20250327T164507Z
UID:9224-1747585800-1747589400@ibcbolingbrook.org
SUMMARY:Children's Workers Make-up Meeting  406 Classroom
DESCRIPTION:
URL:https://ibcbolingbrook.org/event/childrens-workers-make-up-meeting-406-classroom/
END:VEVENT
BEGIN:VEVENT
DTSTART;TZID=America/Chicago:20250430T190000
DTEND;TZID=America/Chicago:20250430T200000
DTSTAMP:20260424T150925
CREATED:20250218T202501Z
LAST-MODIFIED:20250218T202501Z
UID:9183-1746039600-1746043200@ibcbolingbrook.org
SUMMARY:Fourth Baptist Christian School
DESCRIPTION:
URL:https://ibcbolingbrook.org/event/fourth-baptist-christian-school/
END:VEVENT
BEGIN:VEVENT
DTSTART;TZID=America/Chicago:20250427T180000
DTEND;TZID=America/Chicago:20250427T190000
DTSTAMP:20260424T150925
CREATED:20250129T163617Z
LAST-MODIFIED:20250129T163617Z
UID:9003-1745776800-1745780400@ibcbolingbrook.org
SUMMARY:No Evening Service
DESCRIPTION:
URL:https://ibcbolingbrook.org/event/no-evening-service-2/
END:VEVENT
BEGIN:VEVENT
DTSTART;TZID=America/Chicago:20250427T133000
DTEND;TZID=America/Chicago:20250427T143000
DTSTAMP:20260424T150925
CREATED:20250129T163544Z
LAST-MODIFIED:20250129T163544Z
UID:9000-1745760600-1745764200@ibcbolingbrook.org
SUMMARY:Afternoon Service
DESCRIPTION:
URL:https://ibcbolingbrook.org/event/afternoon-service-3/
END:VEVENT
BEGIN:VEVENT
DTSTART;TZID=America/Chicago:20250427T100000
DTEND;TZID=America/Chicago:20250427T110000
DTSTAMP:20260424T150925
CREATED:20241230T185326Z
LAST-MODIFIED:20250129T163508Z
UID:8879-1745748000-1745751600@ibcbolingbrook.org
SUMMARY:Morning Service
DESCRIPTION:10:00 a.m. – Morning Service \n1:30 p.m. – Afternoon Service \nNo 6:00 p.m. Service
URL:https://ibcbolingbrook.org/event/last-sunday-of-the-month-schedule-4/
END:VEVENT
BEGIN:VEVENT
DTSTART;TZID=America/Chicago:20250420T100000
DTEND;TZID=America/Chicago:20250420T110000
DTSTAMP:20260424T150925
CREATED:20250225T194854Z
LAST-MODIFIED:20250225T195324Z
UID:9212-1745143200-1745146800@ibcbolingbrook.org
SUMMARY:Morning Worship Service
DESCRIPTION:380 Auditorium
URL:https://ibcbolingbrook.org/event/morning-worship-service-2/
END:VEVENT
BEGIN:VEVENT
DTSTART;TZID=America/Chicago:20250420T090000
DTEND;TZID=America/Chicago:20250420T100000
DTSTAMP:20260424T150925
CREATED:20250225T194815Z
LAST-MODIFIED:20250225T195225Z
UID:9209-1745139600-1745143200@ibcbolingbrook.org
SUMMARY:Donut Fellowship
DESCRIPTION:406 Building
URL:https://ibcbolingbrook.org/event/donut-fellowship-2/
END:VEVENT
BEGIN:VEVENT
DTSTART;TZID=America/Chicago:20250420T080000
DTEND;TZID=America/Chicago:20250420T090000
DTSTAMP:20260424T150925
CREATED:20250225T194702Z
LAST-MODIFIED:20250225T195147Z
UID:9205-1745136000-1745139600@ibcbolingbrook.org
SUMMARY:Sunrise Service
DESCRIPTION:406 Building
URL:https://ibcbolingbrook.org/event/sunrise-service-800-a-m/
END:VEVENT
BEGIN:VEVENT
DTSTART;TZID=America/Chicago:20250418T190000
DTEND;TZID=America/Chicago:20250418T200000
DTSTAMP:20260424T150925
CREATED:20241230T185117Z
LAST-MODIFIED:20241230T185117Z
UID:8873-1745002800-1745006400@ibcbolingbrook.org
SUMMARY:Living Last Supper
DESCRIPTION:
URL:https://ibcbolingbrook.org/event/living-last-supper/
END:VEVENT
BEGIN:VEVENT
DTSTART;VALUE=DATE:20250416
DTEND;VALUE=DATE:20250417
DTSTAMP:20260424T150925
CREATED:20241230T185209Z
LAST-MODIFIED:20241230T185209Z
UID:8876-1744761600-1744847999@ibcbolingbrook.org
SUMMARY:No Wednesday Service
DESCRIPTION:
URL:https://ibcbolingbrook.org/event/no-wednesday-service/
END:VEVENT
BEGIN:VEVENT
DTSTART;TZID=America/Chicago:20250330T180000
DTEND;TZID=America/Chicago:20250330T190000
DTSTAMP:20260424T150925
CREATED:20250129T163805Z
LAST-MODIFIED:20250129T163805Z
UID:9011-1743357600-1743361200@ibcbolingbrook.org
SUMMARY:No Evening Service
DESCRIPTION:
URL:https://ibcbolingbrook.org/event/no-evening-service-3/
END:VEVENT
BEGIN:VEVENT
DTSTART;TZID=America/Chicago:20250330T133000
DTEND;TZID=America/Chicago:20250330T143000
DTSTAMP:20260424T150925
CREATED:20250129T163739Z
LAST-MODIFIED:20250129T163739Z
UID:9008-1743341400-1743345000@ibcbolingbrook.org
SUMMARY:Afternoon Service
DESCRIPTION:
URL:https://ibcbolingbrook.org/event/afternoon-service-4/
END:VEVENT
BEGIN:VEVENT
DTSTART;TZID=America/Chicago:20250330T100000
DTEND;TZID=America/Chicago:20250330T110000
DTSTAMP:20260424T150925
CREATED:20241230T184959Z
LAST-MODIFIED:20250129T163714Z
UID:8870-1743328800-1743332400@ibcbolingbrook.org
SUMMARY:Morning Service
DESCRIPTION:10:00 a.m. – Morning Service \n1:30 p.m. – Afternoon Service \n  \nNo 6 p.m. Servcie
URL:https://ibcbolingbrook.org/event/last-sunday-of-the-month-schedule-3/
END:VEVENT
BEGIN:VEVENT
DTSTART;TZID=America/Chicago:20250323T100000
DTEND;TZID=America/Chicago:20250323T110000
DTSTAMP:20260424T150925
CREATED:20250129T162727Z
LAST-MODIFIED:20250129T162727Z
UID:8979-1742724000-1742727600@ibcbolingbrook.org
SUMMARY:Baby Dedication Service
DESCRIPTION:
URL:https://ibcbolingbrook.org/event/baby-dedication-service-2/
END:VEVENT
BEGIN:VEVENT
DTSTART;TZID=America/Chicago:20250223T180000
DTEND;TZID=America/Chicago:20250223T190000
DTSTAMP:20260424T150925
CREATED:20250129T164049Z
LAST-MODIFIED:20250129T164049Z
UID:9019-1740333600-1740337200@ibcbolingbrook.org
SUMMARY:No Evening Service
DESCRIPTION:
URL:https://ibcbolingbrook.org/event/no-evening-service-4/
END:VEVENT
BEGIN:VEVENT
DTSTART;TZID=America/Chicago:20250223T133000
DTEND;TZID=America/Chicago:20250223T143000
DTSTAMP:20260424T150925
CREATED:20250129T164021Z
LAST-MODIFIED:20250129T164021Z
UID:9016-1740317400-1740321000@ibcbolingbrook.org
SUMMARY:Afternoon Service
DESCRIPTION:
URL:https://ibcbolingbrook.org/event/afternoon-service-5/
END:VEVENT
BEGIN:VEVENT
DTSTART;TZID=America/Chicago:20250223T100000
DTEND;TZID=America/Chicago:20250223T110000
DTSTAMP:20260424T150925
CREATED:20241125T183335Z
LAST-MODIFIED:20250129T163939Z
UID:8763-1740304800-1740308400@ibcbolingbrook.org
SUMMARY:Morning Service
DESCRIPTION:10:00 a.m. Morning Service \n1:30 p.m. Afternoon Service \nNo Evening Service
URL:https://ibcbolingbrook.org/event/last-sunday-of-the-month-schedule-2/
END:VEVENT
BEGIN:VEVENT
DTSTART;TZID=America/Chicago:20250221T183000
DTEND;TZID=America/Chicago:20250221T210000
DTSTAMP:20260424T150925
CREATED:20250129T162509Z
LAST-MODIFIED:20250129T162606Z
UID:8976-1740162600-1740171600@ibcbolingbrook.org
SUMMARY:Teen Gala
DESCRIPTION:at Clara’s Italian Restaurant
URL:https://ibcbolingbrook.org/event/teen-gala/
END:VEVENT
BEGIN:VEVENT
DTSTART;TZID=America/Chicago:20250216T180000
DTEND;TZID=America/Chicago:20250216T190000
DTSTAMP:20260424T150925
CREATED:20241212T192226Z
LAST-MODIFIED:20241212T192352Z
UID:8815-1739728800-1739732400@ibcbolingbrook.org
SUMMARY:Dr. Andrew Counterman
DESCRIPTION:
URL:https://ibcbolingbrook.org/event/missionary-andrew-counterman-2/
END:VEVENT
BEGIN:VEVENT
DTSTART;TZID=America/Chicago:20250216T100000
DTEND;TZID=America/Chicago:20250216T110000
DTSTAMP:20260424T150925
CREATED:20241212T192154Z
LAST-MODIFIED:20241212T192418Z
UID:8812-1739700000-1739703600@ibcbolingbrook.org
SUMMARY:Dr. Andrew Counterman
DESCRIPTION:
URL:https://ibcbolingbrook.org/event/missionary-andrew-counterman/
END:VEVENT
BEGIN:VEVENT
DTSTART;TZID=America/Chicago:20250131T180000
DTEND;TZID=America/Chicago:20250131T203000
DTSTAMP:20260424T150925
CREATED:20241230T184742Z
LAST-MODIFIED:20250129T162411Z
UID:8867-1738346400-1738355400@ibcbolingbrook.org
SUMMARY:Adult Pizza & Game Fellowship
DESCRIPTION:
URL:https://ibcbolingbrook.org/event/adult-pizza-game-activity/
END:VEVENT
BEGIN:VEVENT
DTSTART;TZID=America/Chicago:20250126T100000
DTEND;TZID=America/Chicago:20250126T143000
DTSTAMP:20260424T150925
CREATED:20241125T183049Z
LAST-MODIFIED:20241125T183049Z
UID:8757-1737885600-1737901800@ibcbolingbrook.org
SUMMARY:Last Sunday of the Month Schedule
DESCRIPTION:10:00 a.m. Morning Service \n1:30 p.m. Afternoon Servcie \nNo evening Service
URL:https://ibcbolingbrook.org/event/last-sunday-of-the-month-schedule/
END:VEVENT
BEGIN:VEVENT
DTSTART;TZID=America/Chicago:20250112T190000
DTEND;TZID=America/Chicago:20250112T203000
DTSTAMP:20260424T150925
CREATED:20241230T184645Z
LAST-MODIFIED:20241230T184645Z
UID:8864-1736708400-1736713800@ibcbolingbrook.org
SUMMARY:Rea Send-Off Fellowship
DESCRIPTION:
URL:https://ibcbolingbrook.org/event/rea-send-off-fellowship/
END:VEVENT
END:VCALENDAR