BEGIN:VCALENDAR
VERSION:2.0
PRODID:-//Independent Baptist Church - ECPv6.15.20//NONSGML v1.0//EN
CALSCALE:GREGORIAN
METHOD:PUBLISH
X-WR-CALNAME:Independent Baptist Church
X-ORIGINAL-URL:https://ibcbolingbrook.org
X-WR-CALDESC:Events for Independent Baptist Church
REFRESH-INTERVAL;VALUE=DURATION:PT1H
X-Robots-Tag:noindex
X-PUBLISHED-TTL:PT1H
BEGIN:VTIMEZONE
TZID:America/Chicago
BEGIN:DAYLIGHT
TZOFFSETFROM:-0600
TZOFFSETTO:-0500
TZNAME:CDT
DTSTART:20250309T080000
END:DAYLIGHT
BEGIN:STANDARD
TZOFFSETFROM:-0500
TZOFFSETTO:-0600
TZNAME:CST
DTSTART:20251102T070000
END:STANDARD
BEGIN:DAYLIGHT
TZOFFSETFROM:-0600
TZOFFSETTO:-0500
TZNAME:CDT
DTSTART:20260308T080000
END:DAYLIGHT
BEGIN:STANDARD
TZOFFSETFROM:-0500
TZOFFSETTO:-0600
TZNAME:CST
DTSTART:20261101T070000
END:STANDARD
BEGIN:DAYLIGHT
TZOFFSETFROM:-0600
TZOFFSETTO:-0500
TZNAME:CDT
DTSTART:20270314T080000
END:DAYLIGHT
BEGIN:STANDARD
TZOFFSETFROM:-0500
TZOFFSETTO:-0600
TZNAME:CST
DTSTART:20271107T070000
END:STANDARD
END:VTIMEZONE
BEGIN:VEVENT
DTSTART;TZID=America/Chicago:20260307T140000
DTEND;TZID=America/Chicago:20260307T160000
DTSTAMP:20260423T101617
CREATED:20251106T184521Z
LAST-MODIFIED:20251106T184521Z
UID:10088-1772892000-1772899200@ibcbolingbrook.org
SUMMARY:Shoaf/Luchene Wedding
DESCRIPTION:
URL:https://ibcbolingbrook.org/event/shoaf-luchene-wedding/
END:VEVENT
BEGIN:VEVENT
DTSTART;TZID=America/Chicago:20260321T180000
DTEND;TZID=America/Chicago:20260321T190000
DTSTAMP:20260423T101617
CREATED:20260113T155014Z
LAST-MODIFIED:20260113T155014Z
UID:10286-1774116000-1774119600@ibcbolingbrook.org
SUMMARY:FBBC Chamber Choir
DESCRIPTION:
URL:https://ibcbolingbrook.org/event/fbbc-chamber-choir/
END:VEVENT
BEGIN:VEVENT
DTSTART;TZID=America/Chicago:20260329T100000
DTEND;TZID=America/Chicago:20260329T110000
DTSTAMP:20260423T101617
CREATED:20260210T192706Z
LAST-MODIFIED:20260210T192706Z
UID:10364-1774778400-1774782000@ibcbolingbrook.org
SUMMARY:Children's Easter Program
DESCRIPTION:
URL:https://ibcbolingbrook.org/event/childrens-easter-program/
END:VEVENT
BEGIN:VEVENT
DTSTART;TZID=America/Chicago:20260329T100000
DTEND;TZID=America/Chicago:20260329T110000
DTSTAMP:20260423T101617
CREATED:20260210T192805Z
LAST-MODIFIED:20260210T192805Z
UID:10367-1774778400-1774782000@ibcbolingbrook.org
SUMMARY:Morning Service
DESCRIPTION:
URL:https://ibcbolingbrook.org/event/morning-service-9/
END:VEVENT
BEGIN:VEVENT
DTSTART;TZID=America/Chicago:20260329T133000
DTEND;TZID=America/Chicago:20260329T143000
DTSTAMP:20260423T101618
CREATED:20260210T192828Z
LAST-MODIFIED:20260210T192828Z
UID:10369-1774791000-1774794600@ibcbolingbrook.org
SUMMARY:Afternoon Service
DESCRIPTION:
URL:https://ibcbolingbrook.org/event/afternoon-service-10/
END:VEVENT
BEGIN:VEVENT
DTSTART;TZID=America/Chicago:20260329T180000
DTEND;TZID=America/Chicago:20260329T190000
DTSTAMP:20260423T101618
CREATED:20260210T192859Z
LAST-MODIFIED:20260210T192859Z
UID:10372-1774807200-1774810800@ibcbolingbrook.org
SUMMARY:No Evening Service
DESCRIPTION:
URL:https://ibcbolingbrook.org/event/no-evening-service-12/
END:VEVENT
BEGIN:VEVENT
DTSTART;VALUE=DATE:20260401
DTEND;VALUE=DATE:20260402
DTSTAMP:20260423T101618
CREATED:20260113T155221Z
LAST-MODIFIED:20260113T155221Z
UID:10289-1775001600-1775087999@ibcbolingbrook.org
SUMMARY:No Wednesday Service
DESCRIPTION:
URL:https://ibcbolingbrook.org/event/no-wednesday-service-4/
END:VEVENT
BEGIN:VEVENT
DTSTART;TZID=America/Chicago:20260403T190000
DTEND;TZID=America/Chicago:20260403T200000
DTSTAMP:20260423T101618
CREATED:20251105T173618Z
LAST-MODIFIED:20251105T173618Z
UID:10028-1775242800-1775246400@ibcbolingbrook.org
SUMMARY:Good Friday Service
DESCRIPTION:
URL:https://ibcbolingbrook.org/event/good-friday-service-4/
END:VEVENT
BEGIN:VEVENT
DTSTART;TZID=America/Chicago:20260405T080000
DTEND;TZID=America/Chicago:20260405T090000
DTSTAMP:20260423T101618
CREATED:20251105T173138Z
LAST-MODIFIED:20251105T173138Z
UID:10016-1775376000-1775379600@ibcbolingbrook.org
SUMMARY:Easter Sunrise Service
DESCRIPTION:
URL:https://ibcbolingbrook.org/event/easter-sunrise-service/
END:VEVENT
BEGIN:VEVENT
DTSTART;TZID=America/Chicago:20260405T080000
DTEND;TZID=America/Chicago:20260405T170000
DTSTAMP:20260423T101618
CREATED:20251105T173434Z
LAST-MODIFIED:20251105T173434Z
UID:10025-1775376000-1775408400@ibcbolingbrook.org
SUMMARY:No Wednesday Service
DESCRIPTION:
URL:https://ibcbolingbrook.org/event/no-wednesday-service-3/
END:VEVENT
BEGIN:VEVENT
DTSTART;TZID=America/Chicago:20260405T090000
DTEND;TZID=America/Chicago:20260405T100000
DTSTAMP:20260423T101618
CREATED:20251105T173219Z
LAST-MODIFIED:20251105T173219Z
UID:10019-1775379600-1775383200@ibcbolingbrook.org
SUMMARY:Donut Fellowship
DESCRIPTION:
URL:https://ibcbolingbrook.org/event/donut-fellowship-3/
END:VEVENT
BEGIN:VEVENT
DTSTART;TZID=America/Chicago:20260405T100000
DTEND;TZID=America/Chicago:20260405T110000
DTSTAMP:20260423T101618
CREATED:20251105T173245Z
LAST-MODIFIED:20251105T173245Z
UID:10022-1775383200-1775386800@ibcbolingbrook.org
SUMMARY:Morning Worship Service
DESCRIPTION:
URL:https://ibcbolingbrook.org/event/morning-worship-service-3/
END:VEVENT
BEGIN:VEVENT
DTSTART;TZID=America/Chicago:20260412T190000
DTEND;TZID=America/Chicago:20260412T200000
DTSTAMP:20260423T101618
CREATED:20260406T192157Z
LAST-MODIFIED:20260406T192157Z
UID:10515-1776020400-1776024000@ibcbolingbrook.org
SUMMARY:Missionary Prayer Hour
DESCRIPTION:
URL:https://ibcbolingbrook.org/event/missionary-prayer-hour/
END:VEVENT
BEGIN:VEVENT
DTSTART;TZID=America/Chicago:20260520T190000
DTEND;TZID=America/Chicago:20260520T200000
DTSTAMP:20260423T101618
CREATED:20251105T173802Z
LAST-MODIFIED:20251105T173802Z
UID:10031-1779303600-1779307200@ibcbolingbrook.org
SUMMARY:Kids4Truth Program
DESCRIPTION:
URL:https://ibcbolingbrook.org/event/kids4truth-program-2/
END:VEVENT
BEGIN:VEVENT
DTSTART;VALUE=DATE:20260525
DTEND;VALUE=DATE:20260526
DTSTAMP:20260423T101618
CREATED:20251105T180646Z
LAST-MODIFIED:20251105T180646Z
UID:10070-1779667200-1779753599@ibcbolingbrook.org
SUMMARY:Church Office Closed
DESCRIPTION:
URL:https://ibcbolingbrook.org/event/church-office-closed-19/
END:VEVENT
BEGIN:VEVENT
DTSTART;TZID=America/Chicago:20260527T180000
DTEND;TZID=America/Chicago:20260527T200000
DTSTAMP:20260423T101618
CREATED:20251105T173944Z
LAST-MODIFIED:20251105T173944Z
UID:10037-1779904800-1779912000@ibcbolingbrook.org
SUMMARY:Kids4Truth End of Year Party
DESCRIPTION:
URL:https://ibcbolingbrook.org/event/kids4truth-end-of-year-party-3/
END:VEVENT
BEGIN:VEVENT
DTSTART;TZID=America/Chicago:20260527T190000
DTEND;TZID=America/Chicago:20260527T200000
DTSTAMP:20260423T101618
CREATED:20251105T173843Z
LAST-MODIFIED:20251105T173843Z
UID:10034-1779908400-1779912000@ibcbolingbrook.org
SUMMARY:Parents of Teens Meeting
DESCRIPTION:On the 3rd level
URL:https://ibcbolingbrook.org/event/parents-of-teens-meeting-4/
END:VEVENT
BEGIN:VEVENT
DTSTART;TZID=America/Chicago:20260531T100000
DTEND;TZID=America/Chicago:20260531T110000
DTSTAMP:20260423T101618
CREATED:20260210T193002Z
LAST-MODIFIED:20260210T193002Z
UID:10375-1780221600-1780225200@ibcbolingbrook.org
SUMMARY:Morning Service
DESCRIPTION:
URL:https://ibcbolingbrook.org/event/morning-service-10/
END:VEVENT
BEGIN:VEVENT
DTSTART;TZID=America/Chicago:20260531T133000
DTEND;TZID=America/Chicago:20260531T143000
DTSTAMP:20260423T101618
CREATED:20260210T193032Z
LAST-MODIFIED:20260210T193032Z
UID:10378-1780234200-1780237800@ibcbolingbrook.org
SUMMARY:Afternoon Service
DESCRIPTION:
URL:https://ibcbolingbrook.org/event/afternoon-service-13/
END:VEVENT
BEGIN:VEVENT
DTSTART;TZID=America/Chicago:20260531T180000
DTEND;TZID=America/Chicago:20260531T190000
DTSTAMP:20260423T101618
CREATED:20260210T193058Z
LAST-MODIFIED:20260210T193058Z
UID:10381-1780250400-1780254000@ibcbolingbrook.org
SUMMARY:No Evening Service
DESCRIPTION:
URL:https://ibcbolingbrook.org/event/no-evening-service-13/
END:VEVENT
BEGIN:VEVENT
DTSTART;VALUE=DATE:20260607
DTEND;VALUE=DATE:20260608
DTSTAMP:20260423T101618
CREATED:20251105T175903Z
LAST-MODIFIED:20251105T175903Z
UID:10043-1780790400-1780876799@ibcbolingbrook.org
SUMMARY:Promotion Sunday
DESCRIPTION:
URL:https://ibcbolingbrook.org/event/promotion-sunday-4/
END:VEVENT
BEGIN:VEVENT
DTSTART;VALUE=DATE:20260614
DTEND;VALUE=DATE:20260615
DTSTAMP:20260423T101618
CREATED:20251105T175820Z
LAST-MODIFIED:20251105T175820Z
UID:10040-1781395200-1781481599@ibcbolingbrook.org
SUMMARY:Deacon Nominations Begin
DESCRIPTION:
URL:https://ibcbolingbrook.org/event/deacon-nominations-begin/
END:VEVENT
BEGIN:VEVENT
DTSTART;TZID=America/Chicago:20260628T180000
DTEND;TZID=America/Chicago:20260628T190000
DTSTAMP:20260423T101618
CREATED:20260210T193215Z
LAST-MODIFIED:20260210T193215Z
UID:10384-1782669600-1782673200@ibcbolingbrook.org
SUMMARY:Dr. Craig Hartman
DESCRIPTION:
URL:https://ibcbolingbrook.org/event/dr-craig-hartman/
END:VEVENT
BEGIN:VEVENT
DTSTART;VALUE=DATE:20260712
DTEND;VALUE=DATE:20260713
DTSTAMP:20260423T101618
CREATED:20251105T175925Z
LAST-MODIFIED:20251105T175925Z
UID:10046-1783814400-1783900799@ibcbolingbrook.org
SUMMARY:Deacon Nominations End
DESCRIPTION:
URL:https://ibcbolingbrook.org/event/deacon-nominations-end-2/
END:VEVENT
BEGIN:VEVENT
DTSTART;TZID=America/Chicago:20260722T090000
DTEND;TZID=America/Chicago:20260724T120000
DTSTAMP:20260423T101618
CREATED:20260414T164325Z
LAST-MODIFIED:20260414T164325Z
UID:10520-1784710800-1784894400@ibcbolingbrook.org
SUMMARY:IBC Youth Soccer Camp
DESCRIPTION:
URL:https://ibcbolingbrook.org/event/ibc-youth-soccer-camp-5/
END:VEVENT
BEGIN:VEVENT
DTSTART;TZID=America/Chicago:20260809T180000
DTEND;TZID=America/Chicago:20260809T190000
DTSTAMP:20260423T101618
CREATED:20251105T175950Z
LAST-MODIFIED:20251105T175950Z
UID:10049-1786298400-1786302000@ibcbolingbrook.org
SUMMARY:Deacon Elections
DESCRIPTION:
URL:https://ibcbolingbrook.org/event/deacon-elections-2/
END:VEVENT
BEGIN:VEVENT
DTSTART;TZID=America/Chicago:20260819T190000
DTEND;TZID=America/Chicago:20260819T200000
DTSTAMP:20260423T101618
CREATED:20260113T155645Z
LAST-MODIFIED:20260113T155645Z
UID:10295-1787166000-1787169600@ibcbolingbrook.org
SUMMARY:Kids4Truth Begins
DESCRIPTION:
URL:https://ibcbolingbrook.org/event/kids4truth-begins-3/
END:VEVENT
BEGIN:VEVENT
DTSTART;TZID=America/Chicago:20260830T100000
DTEND;TZID=America/Chicago:20260830T110000
DTSTAMP:20260423T101618
CREATED:20260210T193423Z
LAST-MODIFIED:20260210T193423Z
UID:10387-1788084000-1788087600@ibcbolingbrook.org
SUMMARY:Morning Service
DESCRIPTION:
URL:https://ibcbolingbrook.org/event/morning-service-11/
END:VEVENT
BEGIN:VEVENT
DTSTART;TZID=America/Chicago:20260830T133000
DTEND;TZID=America/Chicago:20260830T143000
DTSTAMP:20260423T101618
CREATED:20260210T195725Z
LAST-MODIFIED:20260210T195725Z
UID:10390-1788096600-1788100200@ibcbolingbrook.org
SUMMARY:Afternoon Service
DESCRIPTION:
URL:https://ibcbolingbrook.org/event/afternoon-service-14/
END:VEVENT
BEGIN:VEVENT
DTSTART;TZID=America/Chicago:20260830T180000
DTEND;TZID=America/Chicago:20260830T190000
DTSTAMP:20260423T101618
CREATED:20260210T195802Z
LAST-MODIFIED:20260210T195802Z
UID:10393-1788112800-1788116400@ibcbolingbrook.org
SUMMARY:No Evening Service
DESCRIPTION:
URL:https://ibcbolingbrook.org/event/no-evening-service-14/
END:VEVENT
END:VCALENDAR